BEGIN:VCALENDAR
VERSION:2.0
PRODID:-//ChamberMaster//Event Calendar 2.0//EN
METHOD:PUBLISH
X-PUBLISHED-TTL:P3D
REFRESH-INTERVAL:P3D
CALSCALE:GREGORIAN
BEGIN:VEVENT
DTSTART:20210814T143000Z
DTEND:20210814T153000Z
X-MICROSOFT-CDO-ALLDAYEVENT:FALSE
SUMMARY:Yoga at Blackbird Cafe
DESCRIPTION:Summer Saturdays 8:30a Studio B @ Blackbird Cafe August 14th September 11th Join us on the 2nd Saturday of the Month for Yoga & Drinks by the Creek. Location: Blackbird Cafe 25940 CO-74\, Evergreen\, CO 80439 Yoga Class by the Creek. Wear layers\, sunscreen\, bring water and a mat. Yogurt/Granola Bar & Beverage included. Full breakfast menu available to order\, not included. Event Price: $35
X-ALT-DESC;FMTTYPE=text/html:Summer Saturdays 8:30a Studio B @ Blackbird Cafe August 14th September 11th Join us on the 2nd Saturday of the Month for Yoga &amp\; Drinks by the Creek. Location: Blackbird Cafe 25940 CO-74\, Evergreen\, CO 80439 Yoga Class by the Creek. Wear layers\, sunscreen\, bring water and a mat. Yogurt/Granola Bar &amp\; Beverage included. Full breakfast menu available to order\, not included. Event Price: $35
LOCATION:Blackbird Cafe 25940 CO-74\, Evergreen\, CO 80439
UID:e.298.84373
SEQUENCE:3
DTSTAMP:20260425T013113Z
URL:https://members.evergreenchamber.org/events/details/yoga-at-blackbird-cafe-84373
END:VEVENT

END:VCALENDAR
