BEGIN:VCALENDAR
VERSION:2.0
PRODID:-//ChamberMaster//Event Calendar 2.0//EN
METHOD:PUBLISH
X-PUBLISHED-TTL:P3D
REFRESH-INTERVAL:P3D
CALSCALE:GREGORIAN
BEGIN:VEVENT
DTSTART:20210822T010000Z
DTEND:20210822T023000Z
X-MICROSOFT-CDO-ALLDAYEVENT:FALSE
SUMMARY:Yoga & Acupuncture Night
DESCRIPTION:Saturday Night Yoga & Acupuncture Join Studio B Yoga & Stone Lotus Acupuncture for a fun and relaxing evening. Tina will lead a yoga class designed to move the body\, release tension\, and prepare for acupuncture. After Yoga\, the qi and blood are flowing\, and Kristen will tap into the relaxation and parasympathetic recovery phase of Shavasana. Saturday AUGUST 21 7:00p $65 Refreshments served after. stay as long as you like.
X-ALT-DESC;FMTTYPE=text/html:Saturday Night Yoga &amp\; Acupuncture Join Studio B Yoga &amp\; Stone Lotus Acupuncture for a fun and relaxing evening. Tina will lead a yoga class designed to move the body\, release tension\, and prepare for acupuncture. After Yoga\, the qi and blood are flowing\, and Kristen will tap into the relaxation and parasympathetic recovery phase of Shavasana. Saturday AUGUST 21 7:00p $65 Refreshments served after. stay as long as you like.
LOCATION:27905 Meadow Dr. Studio B Yoga Evergreen
UID:e.298.84374
SEQUENCE:3
DTSTAMP:20260425T013034Z
URL:https://members.evergreenchamber.org/events/details/yoga-acupuncture-night-84374
END:VEVENT

END:VCALENDAR
