BEGIN:VCALENDAR
VERSION:2.0
PRODID:-//ChamberMaster//Event Calendar 2.0//EN
METHOD:PUBLISH
X-PUBLISHED-TTL:P3D
REFRESH-INTERVAL:P3D
CALSCALE:GREGORIAN
BEGIN:VEVENT
DTSTART:20221121T190000Z
DTEND:20221121T220000Z
X-MICROSOFT-CDO-ALLDAYEVENT:FALSE
SUMMARY:World Cup - USA vs. Wales
DESCRIPTION:Come watch the United States Men's National Team begin their World Cup competition.  Their first match is against Wales at high noon.  We have our wonderful Tacorita specials for you to enjoy.  GO USA!
X-ALT-DESC;FMTTYPE=text/html:Come watch the United States Men&#39\;s National Team begin their World Cup competition.&nbsp\; Their first match is against Wales at high noon.&nbsp\; We have our wonderful Tacorita specials for you to enjoy.&nbsp\; GO USA!
LOCATION:
UID:e.298.88594
SEQUENCE:3
DTSTAMP:20260424T143848Z
URL:https://members.evergreenchamber.org/events/details/world-cup-usa-vs-wales-88594
END:VEVENT

END:VCALENDAR
