BEGIN:VCALENDAR
VERSION:2.0
PRODID:-//ChamberMaster//Event Calendar 2.0//EN
METHOD:PUBLISH
X-PUBLISHED-TTL:P3D
REFRESH-INTERVAL:P3D
CALSCALE:GREGORIAN
BEGIN:VEVENT
DTSTART:20211021T173000Z
DTEND:20211021T193000Z
X-MICROSOFT-CDO-ALLDAYEVENT:FALSE
SUMMARY:Women in Business Luncheon
DESCRIPTION:Enjoy an elegant meal\, network with other career-focused women and hear from Rep. Lisa Cutter (D) HD 25 and Rep. Mary Bradfield (R) HD 21 on the role of women in affecting change in the political culture of today.  We are thrilled to once again partner with Lutheran SCL Health\, our title sponsor\, to present the annual Mountain Area Women in Business Hall of Fame nominations and inductions. Celebrating success and learning something new will be our goal of the afternoon.\n\n\n\nOpen to the Public
X-ALT-DESC;FMTTYPE=text/html:Enjoy an elegant meal\, network with other career-focused women and hear from Rep. Lisa Cutter (D) HD 25 and Rep. Mary Bradfield (R) HD 21 on the role of women in affecting change in the political culture of today.&nbsp\; We are thrilled to once again partner with Lutheran SCL Health\, our title sponsor\, to present the annual Mountain Area Women in Business Hall of Fame nominations and inductions. Celebrating success and learning something new will be our goal of the afternoon.<br />\n<br />\nOpen to the Public
LOCATION:Mount Vernon Canyon Club 24933 Club House Circle Golden\, CO 80401
UID:e.298.83705
SEQUENCE:3
DTSTAMP:20260424T223356Z
URL:https://members.evergreenchamber.org/events/details/women-in-business-luncheon-83705
END:VEVENT

END:VCALENDAR
