BEGIN:VCALENDAR
VERSION:2.0
PRODID:-//ChamberMaster//Event Calendar 2.0//EN
METHOD:PUBLISH
X-PUBLISHED-TTL:P3D
REFRESH-INTERVAL:P3D
CALSCALE:GREGORIAN
BEGIN:VEVENT
DTSTART:20210210T160000Z
DTEND:20210210T173000Z
X-MICROSOFT-CDO-ALLDAYEVENT:FALSE
SUMMARY:Woman 2 Woman Leads Group
DESCRIPTION:Women 2 Women Leads Group - join us for a monthly meeting on the 2nd Wednesday of each month to connect\, learn\, and create lasting relationships within our business community. Contact Mindy Hansen at 720-526-3636 for more information.  DUE TO COVID: We are currently meeting via Zoom to keep our members safe.
X-ALT-DESC;FMTTYPE=text/html:<p>Women 2 Women Leads Group - join us for a monthly meeting on the 2nd Wednesday of each month to connect\, learn\, and create lasting relationships within our business community. Contact Mindy Hansen&nbsp\;at 720-526-3636&nbsp\;for more information. &nbsp\;DUE TO COVID: We are currently meeting via Zoom to keep our members safe.&nbsp\;</p>\n\n<p>&nbsp\;</p>\n
LOCATION:
UID:e.298.83477
SEQUENCE:3
DTSTAMP:20260425T105918Z
URL:https://members.evergreenchamber.org/events/details/woman-2-woman-leads-group-02-10-2021-83477
END:VEVENT

END:VCALENDAR
