BEGIN:VCALENDAR
VERSION:2.0
PRODID:-//ChamberMaster//Event Calendar 2.0//EN
METHOD:PUBLISH
X-PUBLISHED-TTL:P3D
REFRESH-INTERVAL:P3D
CALSCALE:GREGORIAN
BEGIN:VEVENT
DTSTART:20250603T020000Z
DTEND:20250603T040000Z
X-MICROSOFT-CDO-ALLDAYEVENT:FALSE
SUMMARY:Weekly Dart Tournament
DESCRIPTION:Ralphie's Monday Night Dart League is here!\n\n2 dartboards\, traditional rules\, gift cards and CJ gear for prizes\n\nCome out and throw some darts\, hang with some cool folks and enjoy a few adult beverages along the way.
X-ALT-DESC;FMTTYPE=text/html:<div>Ralphie&#39\;s Monday Night Dart League is here!</div>\n\n<div>2 dartboards\, traditional rules\, gift cards and CJ gear for prizes</div>\n\n<div>Come out and throw some darts\, hang with some cool folks and enjoy a few adult beverages along the way.</div>\n
LOCATION:Cactus Jack's in downtown Evergreen
UID:e.298.99750
SEQUENCE:3
DTSTAMP:20260420T072830Z
URL:https://members.evergreenchamber.org/events/details/weekly-dart-tournament-99750
END:VEVENT

END:VCALENDAR
