BEGIN:VCALENDAR
VERSION:2.0
PRODID:-//ChamberMaster//Event Calendar 2.0//EN
METHOD:PUBLISH
X-PUBLISHED-TTL:P3D
REFRESH-INTERVAL:P3D
CALSCALE:GREGORIAN
BEGIN:VEVENT
DTSTART:20211218T010000Z
DTEND:20211218T043000Z
X-MICROSOFT-CDO-ALLDAYEVENT:FALSE
SUMMARY:Warren Miller Movie Screening Event
DESCRIPTION:Join us on 12/17 at the Evergreen Elks Lodge for a screening of the 72nd Warren Miller ski and snowboard film\, "Winter Starts Now" as we find old friends and new in our favorite places from the mom and pop ski hill to the highest peak on the horizon. Learn more at warrenmiller.com.\n\n \n\nTickets are on sale and proceeds benefit the Rocky Mountain Academy of Evergreen Parent Teacher Organization (RMAE PTO) in Evergreen\, CO. Ticket link: https://www.eventbrite.com/e/warren-miller-2021-film-tour-winter-starts-now-tickets-202195842207
X-ALT-DESC;FMTTYPE=text/html:<div><span style="font-size:16px"><span style="color:var(--primary-text)\; font-family:inherit">Join us on 12/17 at the Evergreen Elks Lodge for a screening of the 72nd Warren Miller ski and snowboard film\, &ldquo\;Winter Starts Now&rdquo\; as we find old friends and new in our favorite places&mdash\;from the mom and pop ski hill to the highest peak on the horizon.&nbsp\;</span><span style="color:var(--primary-text)\; font-family:inherit">Learn more at warrenmiller.com.</span></span></div>\n\n<div>&nbsp\;</div>\n\n<div><span style="font-size:16px"><span style="font-family:arial\,helvetica\,sans-serif">Tickets are on sale and proceeds benefit the Rocky Mountain Academy of Evergreen Parent Teacher Organization (RMAE PTO) in Evergreen\, CO.&nbsp\;<span style="color:rgb(0\, 0\, 0)"><strong>Ticket link: </strong><a href="https://www.eventbrite.com/e/warren-miller-2021-film-tour-winter-starts-now-tickets-202195842207" style="text-decoration: none\;"><u>https://www.eventbrite.com/e/warren-miller-2021-film-tour-winter-starts-now-tickets-202195842207</u></a></span></span></span></div>\n
LOCATION:Evergreen Elks Lodge\, Evergreen\, CO
UID:e.298.85989
SEQUENCE:3
DTSTAMP:20260424T194245Z
URL:https://members.evergreenchamber.org/events/details/warren-miller-movie-screening-event-85989
END:VEVENT

END:VCALENDAR
