BEGIN:VCALENDAR
VERSION:2.0
PRODID:-//ChamberMaster//Event Calendar 2.0//EN
METHOD:PUBLISH
X-PUBLISHED-TTL:P3D
REFRESH-INTERVAL:P3D
CALSCALE:GREGORIAN
BEGIN:VEVENT
DTSTART;VALUE=DATE:20210731
DTEND;VALUE=DATE:20210801
TRANSP:TRANSPARENT
X-MICROSOFT-CDO-ALLDAYEVENT:TRUE
SUMMARY:Wags & Washes - EAPL's Annual Dog Wash
DESCRIPTION:Wags and Washes - Evergreen Animal Protective League's Annual Dog Wash.  Save the Date!  More info to come!
X-ALT-DESC;FMTTYPE=text/html:Wags and Washes - Evergreen Animal Protective League&#39\;s Annual Dog Wash.&nbsp\; Save the Date!&nbsp\; More info to come!
LOCATION:More details to follow
UID:e.298.84338
SEQUENCE:3
DTSTAMP:20260425T025814Z
URL:https://members.evergreenchamber.org/events/details/wags-washes-eapl-s-annual-dog-wash-84338
END:VEVENT

END:VCALENDAR
