BEGIN:VCALENDAR
VERSION:2.0
PRODID:-//ChamberMaster//Event Calendar 2.0//EN
METHOD:PUBLISH
X-PUBLISHED-TTL:P3D
REFRESH-INTERVAL:P3D
CALSCALE:GREGORIAN
BEGIN:VEVENT
DTSTART:20251124T190000Z
DTEND:20251124T220000Z
X-MICROSOFT-CDO-ALLDAYEVENT:FALSE
SUMMARY:Turn Up Your Thanksgiving Break!
DESCRIPTION:Resilience1220 invites middle and high school students to the Wild Game for an afternoon of food\, friends\, and fun! Come hang out\, play games\, and connect with your peers in a relaxed\, social setting. Lunch and snacks\, arcade game cards and bowling provided at no charge!
X-ALT-DESC;FMTTYPE=text/html:Resilience1220 invites middle and high school students to the Wild Game for an afternoon of food\, friends\, and fun! Come hang out\, play games\, and connect with your peers in a relaxed\, social setting. Lunch and snacks\, arcade game cards and bowling provided at no charge!
LOCATION:The Wild Game Evergreen 1204 Bergen Pkwy. Evergreen\, CO 80439
UID:e.298.104057
SEQUENCE:3
DTSTAMP:20260419T224621Z
URL:https://members.evergreenchamber.org/events/details/turn-up-your-thanksgiving-break-104057
END:VEVENT

END:VCALENDAR
