BEGIN:VCALENDAR
VERSION:2.0
PRODID:-//ChamberMaster//Event Calendar 2.0//EN
METHOD:PUBLISH
X-PUBLISHED-TTL:P3D
REFRESH-INTERVAL:P3D
CALSCALE:GREGORIAN
BEGIN:VEVENT
DTSTART:20240121T200000Z
DTEND:20240121T220000Z
X-MICROSOFT-CDO-ALLDAYEVENT:FALSE
SUMMARY:Tundra Trot
DESCRIPTION:Join EPRD for the first ever Tundra Trot! This event will be on January 21 at Evergreen Lake House warming hut starting at 1pm. All ages are welcomed to come and run with us out on the ice. Evergreen Brewery and Fountain BBQ will be onsite with refreshments and snacks for purchase. After the race\, join us for free hot coco for the kids after!\nRegistration is for the 5k (ish)\n\nCostumes encouraged! Prizes will be given for best costume!\n**This activity is weather and ice dependent**\n\n\n\nNo pets allowed on the ice. No ice skates permitted.
X-ALT-DESC;FMTTYPE=text/html:<span style="color:rgb(49\, 55\, 65)\; font-family:proximanova\,arial\,sans-serif\; font-size:14px">Join EPRD for the first ever Tundra Trot! This event will be on January 21 at Evergreen Lake House warming hut starting at 1pm. All ages are welcomed to come and run with us out on the ice. Evergreen Brewery and Fountain BBQ will be onsite with refreshments and snacks for purchase. After the race\, join us for free hot coco for the kids after!</span>\n<div>Registration is for the 5k (ish)\n<div>\n<div>Costumes encouraged! Prizes will be given for best costume!\n<div>**This activity is weather and ice dependent**</div>\n</div>\n</div>\n\n<div>No pets allowed on the ice. No ice skates permitted.</div>\n</div>\n
LOCATION:Evergreen Lake House 29612 Upper Bear Creek Road Evergreen\, CO 80439
UID:e.298.90976
SEQUENCE:3
DTSTAMP:20260423T062644Z
URL:https://members.evergreenchamber.org/events/details/tundra-trot-90976
END:VEVENT

END:VCALENDAR
