BEGIN:VCALENDAR
VERSION:2.0
PRODID:-//ChamberMaster//Event Calendar 2.0//EN
METHOD:PUBLISH
X-PUBLISHED-TTL:P3D
REFRESH-INTERVAL:P3D
CALSCALE:GREGORIAN
BEGIN:VEVENT
DTSTART:20251109T203000Z
DTEND:20251109T223000Z
X-MICROSOFT-CDO-ALLDAYEVENT:FALSE
SUMMARY:TRUE YOGA- Community Conscious Alignment Workshop
DESCRIPTION:Step into a 2-hour vibrational\, heart-centered experience to release stress\, restore balance\, and realign your mind\, body\, and energy before\nthe holiday season. Through mindset\ntechniques\, breath work\, and guided meditation inspired by Dr. Joe Dispenza to cultivate calm\,\npresence\, and the natural healing process. \nRESET- RESTORE- REBALANCE
X-ALT-DESC;FMTTYPE=text/html:Step into a 2-hour vibrational\, heart-centered experience to release stress\, restore balance\, and realign your mind\, body\, and energy before\nthe holiday season. Through mindset\ntechniques\, breath work\, and guided meditation inspired by Dr. Joe Dispenza to cultivate calm\,\npresence\, and the natural healing process. \nRESET- RESTORE- REBALANCE
LOCATION:True Yoga Evergreen 1240 Bergen Parkway\, Evergreen\, CO 80439
UID:e.298.103998
SEQUENCE:3
DTSTAMP:20260420T020125Z
URL:https://members.evergreenchamber.org/events/details/true-yoga-community-conscious-alignment-workshop-103998
END:VEVENT

END:VCALENDAR
