BEGIN:VCALENDAR
VERSION:2.0
PRODID:-//ChamberMaster//Event Calendar 2.0//EN
METHOD:PUBLISH
X-PUBLISHED-TTL:P3D
REFRESH-INTERVAL:P3D
CALSCALE:GREGORIAN
BEGIN:VEVENT
DTSTART;VALUE=DATE:20210821
DTEND;VALUE=DATE:20210822
TRANSP:TRANSPARENT
X-MICROSOFT-CDO-ALLDAYEVENT:TRUE
SUMMARY:Triple Bypass - Team Evergreen Bike Event
DESCRIPTION:NEW TWIST ON A CLASSIC\n\nJoin us August 21\, 2021\n\nVail Finish - Gran Fondo Option - 110 or 64 mile Courses\n\nWe are going back to our roots in 2021 and finishing in the town where it all started. Leaving from Evergreen\, Triple Riders will travel 110 miles and 10\,750' over 3 gorgeous mountain passes - arriving in Vail\, Colorado. Prefer something a little shorter? Try the Double Bypass - 64 miles from Georgetown to Vail. Really want a challenge? You verses the clock in the Triple Bypass Gran Fondo.\n\n\n\nwww.TripleBypass.org
X-ALT-DESC;FMTTYPE=text/html:<h1 style="text-align:center">NEW TWIST ON A CLASSIC</h1>\n\n<h3 style="text-align:center">Join us August 21\, 2021</h3>\n\n<h4 style="text-align:center">Vail Finish - Gran Fondo Option - 110 or 64 mile Courses</h4>\n\n<p style="text-align:center">We are going back to our roots in 2021 and finishing in the town where it all started. Leaving from Evergreen\, Triple Riders will travel 110 miles and 10\,750&rsquo\; over 3 gorgeous mountain passes - arriving in Vail\, Colorado. Prefer something a little shorter? Try the Double Bypass - 64 miles from Georgetown to Vail. Really want a challenge? You verses the clock in the Triple Bypass Gran Fondo.</p>\n\n<h4 style="text-align:center"><br />\nwww.TripleBypass.org</h4>\n<br />\n&nbsp\;
LOCATION:Buchanan Park\, Evergreen\, CO 32003 Ellingwood Trail Evergreen\, Colorado 80439
UID:e.298.83515
SEQUENCE:3
DTSTAMP:20260425T013137Z
URL:https://members.evergreenchamber.org/events/details/triple-bypass-team-evergreen-bike-event-83515
END:VEVENT

END:VCALENDAR
