BEGIN:VCALENDAR
VERSION:2.0
PRODID:-//ChamberMaster//Event Calendar 2.0//EN
METHOD:PUBLISH
X-PUBLISHED-TTL:P3D
REFRESH-INTERVAL:P3D
CALSCALE:GREGORIAN
BEGIN:VEVENT
DTSTART:20210109T160000Z
DTEND:20210109T220000Z
X-MICROSOFT-CDO-ALLDAYEVENT:FALSE
SUMMARY:Tree Recycling
DESCRIPTION:Evergreen Sustainability Alliance is holding their annual holiday tree recycling event. Bring holiday tree to be recycled. Remove all decorations\, tinsel's and lights before bringing your tree to the recycling event. Also taking large styrofoam (no peanuts or food trays) and candle wax. Donation much appreciated. LAM Tree will chip the trees and create mulch with your recycled tree.
X-ALT-DESC;FMTTYPE=text/html:Evergreen Sustainability Alliance is holding their annual holiday tree recycling event. Bring holiday tree to be recycled. Remove all decorations\, tinsel&rsquo\;s and lights before bringing your tree to the recycling event. Also taking large styrofoam (no peanuts or food trays) and candle wax. Donation much appreciated. LAM Tree will chip the trees and create mulch with your recycled tree.
LOCATION:Evergreen Lutheran Church. 5980 County Hwy 73\, Evergreen\, CO
UID:e.298.83579
SEQUENCE:3
DTSTAMP:20260425T123739Z
URL:https://members.evergreenchamber.org/events/details/tree-recycling-01-09-2021-83579
END:VEVENT

END:VCALENDAR
