BEGIN:VCALENDAR
VERSION:2.0
PRODID:-//ChamberMaster//Event Calendar 2.0//EN
METHOD:PUBLISH
X-PUBLISHED-TTL:P3D
REFRESH-INTERVAL:P3D
CALSCALE:GREGORIAN
BEGIN:VEVENT
DTSTART:20210217T170000Z
DTEND:20210217T180000Z
X-MICROSOFT-CDO-ALLDAYEVENT:FALSE
SUMMARY:Transform Your Life: The Power fo Self-Compassion
DESCRIPTION:The ability to understand and practice self-compassion can change your life! Having self-compassion means being gentle\, kind\, and caring to yourself while recognizing your own limitations. Developing this attitude of positive thinking can lead to greater emotional strength\, resilience\, well-being\, and inner peace\, especially in the face of difficult or stressful times. Join us for this special webinar with Jefferson Center clinician Lisel Von Duyke on Wednesday\, February 17 at 10 a.m. to gain a better understanding of what it looks like to practice self-compassion. You will walk away with practical skills to approach stressors and negative thought processes so you can tackle whatever life may throw your way with confidence and peace. Sponsored by the Rotary Club of Golden.
X-ALT-DESC;FMTTYPE=text/html:The ability to understand and practice self-compassion can change your life! Having self-compassion means being gentle\, kind\, and caring to yourself while recognizing your own limitations. Developing this attitude of positive thinking can lead to greater emotional strength\, resilience\, well-being\, and inner peace\, especially in the face of difficult or stressful times. Join us for this special webinar with Jefferson Center clinician Lisel Von Duyke on Wednesday\, February 17 at 10 a.m. to gain a better understanding of what it looks like to practice self-compassion. You will walk away with practical skills to approach stressors and negative thought processes so you can tackle whatever life may throw your way with confidence and peace. Sponsored by the Rotary Club of Golden.
LOCATION:https://www.eventbrite.com/e/138963990035
UID:e.298.83783
SEQUENCE:3
DTSTAMP:20260425T105507Z
URL:https://members.evergreenchamber.org/events/details/transform-your-life-the-power-fo-self-compassion-83783
END:VEVENT

END:VCALENDAR
