BEGIN:VCALENDAR
VERSION:2.0
PRODID:-//ChamberMaster//Event Calendar 2.0//EN
METHOD:PUBLISH
X-PUBLISHED-TTL:P3D
REFRESH-INTERVAL:P3D
CALSCALE:GREGORIAN
BEGIN:VEVENT
DTSTART:20220923T223000Z
DTEND:20220923T233000Z
X-MICROSOFT-CDO-ALLDAYEVENT:FALSE
SUMMARY:Tour de Decks - Campfire Evergreen
DESCRIPTION:Casual Happy Hour for Chamber Members to unwind from the week.
X-ALT-DESC;FMTTYPE=text/html:<span style="color: rgb(51\, 51\, 51)\; font-family: sans-serif\, Arial\, Verdana\, &quot\;Trebuchet MS&quot\;\; font-size: 13px\; background-color: rgb(255\, 255\, 255)\;">Casual Happy Hour for Chamber Members to unwind from the week.</span><br />\n<br />\n&nbsp\;
LOCATION:Campfire Evergreen 27883 Meadow Dr Evergreen CO
UID:e.298.87540
SEQUENCE:3
DTSTAMP:20260424T053836Z
URL:https://members.evergreenchamber.org/events/details/tour-de-decks-campfire-evergreen-87540
END:VEVENT

END:VCALENDAR
