BEGIN:VCALENDAR
VERSION:2.0
PRODID:-//ChamberMaster//Event Calendar 2.0//EN
METHOD:PUBLISH
X-PUBLISHED-TTL:P3D
REFRESH-INTERVAL:P3D
CALSCALE:GREGORIAN
BEGIN:VEVENT
DTSTART:20250926T000000Z
DTEND:20250926T020000Z
X-MICROSOFT-CDO-ALLDAYEVENT:FALSE
SUMMARY:Thursday Think and Drink Trivia Plus a Free Shelter Distilling Tasting!!
DESCRIPTION:Thirsty Thursday - Join us for trivia at 6pm. It is free to play with prizes for every game. Play by yourself or bring the whole family for some trivia fun. Plus\, this Thursday we have a free Shelter Distillery and Brewery tasting. Shelter Distilling is from Montrose\, Colorado. They have 2 small batch gins\, a bourbon and whiskey for your enjoyment. More of a beer person- Shelter has 3 beers that we will have on tap. Come try them for free while playing free trivia. Food and drink specials plus its Pint Posse happy hour open to close. We hope to see you there!!
X-ALT-DESC;FMTTYPE=text/html:Thirsty Thursday - Join us for trivia at 6pm. It is free to play with prizes for every game. Play by yourself or bring the whole family for some trivia fun. Plus\, this Thursday we have a free Shelter Distillery and Brewery tasting. Shelter Distilling is from Montrose\, Colorado. They have 2 small batch gins\, a bourbon and whiskey for your enjoyment. More of a beer person- Shelter has 3 beers that we will have on tap. Come try them for free while playing free trivia. Food and drink specials plus its Pint Posse happy hour open to close. We hope to see you there!!
LOCATION:Revival Brews Downtown Evergreen
UID:e.298.99458
SEQUENCE:3
DTSTAMP:20260420T020153Z
URL:https://members.evergreenchamber.org/events/details/thursday-think-and-drink-trivia-with-omg-mike-7pm-99458
END:VEVENT

END:VCALENDAR
