BEGIN:VCALENDAR
VERSION:2.0
PRODID:-//ChamberMaster//Event Calendar 2.0//EN
METHOD:PUBLISH
X-PUBLISHED-TTL:P3D
REFRESH-INTERVAL:P3D
CALSCALE:GREGORIAN
BEGIN:VEVENT
DTSTART:20251120T230000Z
DTEND:20251121T030000Z
X-MICROSOFT-CDO-ALLDAYEVENT:FALSE
SUMMARY:Thirsty Thursday's @ Blackbird Cafe
DESCRIPTION:Local Live music\, appetizers and drinks!
X-ALT-DESC;FMTTYPE=text/html:Local Live music\, appetizers and drinks!&nbsp\;
LOCATION:Blackbird Cafe 25940 Highway 74 Evergreen\, CO
UID:e.298.91084
SEQUENCE:3
DTSTAMP:20260419T224908Z
URL:https://members.evergreenchamber.org/events/details/thirsty-thursday-s-blackbird-cafe-11-20-2025-91084
END:VEVENT

END:VCALENDAR
