BEGIN:VCALENDAR
VERSION:2.0
PRODID:-//ChamberMaster//Event Calendar 2.0//EN
METHOD:PUBLISH
X-PUBLISHED-TTL:P3D
REFRESH-INTERVAL:P3D
CALSCALE:GREGORIAN
BEGIN:VEVENT
DTSTART:20231218T000000Z
DTEND:20231218T030000Z
X-MICROSOFT-CDO-ALLDAYEVENT:FALSE
SUMMARY:The Venue Theatre Holiday Cabaret
DESCRIPTION:Our Annual Holiday Cabaret will include performances by our homeschool program\, conservatory students\, and community members! Come support The Venue students and community!
X-ALT-DESC;FMTTYPE=text/html:Our Annual Holiday Cabaret will include performances by our homeschool program\, conservatory students\, and community members! Come support The Venue students and community!
LOCATION:The Venue Theatre Conifer\, CO
UID:e.298.90929
SEQUENCE:3
DTSTAMP:20260423T080125Z
URL:https://members.evergreenchamber.org/events/details/the-venue-theatre-holiday-cabaret-90929
END:VEVENT

END:VCALENDAR
