BEGIN:VCALENDAR
VERSION:2.0
PRODID:-//ChamberMaster//Event Calendar 2.0//EN
METHOD:PUBLISH
X-PUBLISHED-TTL:P3D
REFRESH-INTERVAL:P3D
CALSCALE:GREGORIAN
BEGIN:VEVENT
DTSTART:20250422T160000Z
DTEND:20250422T170000Z
X-MICROSOFT-CDO-ALLDAYEVENT:FALSE
SUMMARY:The Power of Vision Workshop: 3 Keys to Accelerating Your Results
DESCRIPTION:THE POWER OF VISION Workshop:  3 Keys to Accelerating Your Results\n\n	Do you want to discover your true dream or purpose?\n	Would you like to eliminate fear\, doubt\, and worry and move toward your goals with confidence?\n	Do you want to increase prosperity and stay in complete harmony with your highest values and beliefs\n\nIf these questions resonate with you\, then you are going to love this workshop!
X-ALT-DESC;FMTTYPE=text/html:<span style="color:rgb(0\, 0\, 0)">THE POWER OF </span><strong>VISION </strong><span style="color:rgb(0\, 0\, 0)">Workshop:&nbsp\;&nbsp\;3 Keys to Accelerating Your Results</span>\n<ul>\n	<li><span style="background-color:#FFFFFF">Do you want to discover your true dream or purpose?</span></li>\n	<li><span style="background-color:#FFFFFF">Would you like to eliminate fear\, doubt\, and worry and move toward your goals with confidence?</span></li>\n	<li><span style="background-color:#FFFFFF">Do you want to increase prosperity and stay in complete harmony with your highest values and beliefs</span></li>\n</ul>\n<span style="background-color:#FFFFFF"><span style="background-color:#FFFFFF">If these qu</span>estions resonate with you\, then you are going to love this workshop!</span>
LOCATION:Evergreen Fire Rescue Administrative Building 1802 Bergen Parkway Evergreen\, CO 80439
UID:e.298.99566
SEQUENCE:3
DTSTAMP:20260422T102811Z
URL:https://members.evergreenchamber.org/events/details/the-power-of-vision-workshop-3-keys-to-accelerating-your-results-99566
END:VEVENT

END:VCALENDAR
