BEGIN:VCALENDAR
VERSION:2.0
PRODID:-//ChamberMaster//Event Calendar 2.0//EN
METHOD:PUBLISH
X-PUBLISHED-TTL:P3D
REFRESH-INTERVAL:P3D
CALSCALE:GREGORIAN
BEGIN:VEVENT
DTSTART:20251101T210000Z
DTEND:20251101T230000Z
X-MICROSOFT-CDO-ALLDAYEVENT:FALSE
SUMMARY:The Middle Age
DESCRIPTION:Please join us for an afternoon of community connection at Cactus Jack's.  Costume Contest\, Dancing\, Live Music and Family Board Games.  90s Covers.  instagram.com/themiddleagedband
X-ALT-DESC;FMTTYPE=text/html:Please join us for an afternoon of community connection at Cactus Jack&#39\;s.&nbsp\; Costume Contest\, Dancing\, Live Music and Family Board Games.&nbsp\; 90s Covers.&nbsp\; instagram.com/themiddleagedband
LOCATION:Cactus Jack's Saloon
UID:e.298.103114
SEQUENCE:3
DTSTAMP:20260419T224551Z
URL:https://members.evergreenchamber.org/events/details/the-middle-age-103114
END:VEVENT

END:VCALENDAR
