BEGIN:VCALENDAR
VERSION:2.0
PRODID:-//ChamberMaster//Event Calendar 2.0//EN
METHOD:PUBLISH
X-PUBLISHED-TTL:P3D
REFRESH-INTERVAL:P3D
CALSCALE:GREGORIAN
BEGIN:VEVENT
DTSTART:20221217T030000Z
DTEND:20221217T070000Z
X-MICROSOFT-CDO-ALLDAYEVENT:FALSE
SUMMARY:the Matt Flaherty Band Birthday Bash
DESCRIPTION:We are going to celebrate the ONE\, the ONLY...Matt Flaherty.  In celebration of this great musicians birthday we will be having all sorts of fun.  Bring yer dancing shoes.  https://www.facebook.com/MattFlahertyBand/
X-ALT-DESC;FMTTYPE=text/html:<span style="color:rgb(33\, 33\, 33)\; font-family:inter\,sans-serif\; font-size:16px">We are going to celebrate the ONE\, the ONLY...Matt Flaherty.&nbsp\; In celebration of this great musicians birthday we will be having all sorts of fun.&nbsp\; Bring yer dancing shoes.&nbsp\;&nbsp\;https://www.facebook.com/MattFlahertyBand/</span>
LOCATION:
UID:e.298.88588
SEQUENCE:3
DTSTAMP:20260424T005451Z
URL:https://members.evergreenchamber.org/events/details/the-matt-flaherty-band-birthday-bash-88588
END:VEVENT

END:VCALENDAR
