BEGIN:VCALENDAR
VERSION:2.0
PRODID:-//ChamberMaster//Event Calendar 2.0//EN
METHOD:PUBLISH
X-PUBLISHED-TTL:P3D
REFRESH-INTERVAL:P3D
CALSCALE:GREGORIAN
BEGIN:VEVENT
DTSTART:20231209T023000Z
DTEND:20231211T043000Z
X-MICROSOFT-CDO-ALLDAYEVENT:FALSE
SUMMARY:The Evergreen Chorale presents a Holiday Concert - To Be Determined!
DESCRIPTION:The Evergreen Chorale in concert for the holidays! Show to be announced! Stay tuned and visit our website for more information.\n\nhttps://ovationwest.org
X-ALT-DESC;FMTTYPE=text/html:<p><span style="color:rgb(0\, 0\, 0)"><span style="color:rgb(51\, 51\, 51)\; font-family:arial\; font-size:11pt">The Evergreen Chorale in concert for the holidays! Show to be announced! Stay tuned and visit our website for more information.</span></span><br />\n<span style="font-size:14px">https://ovationwest.org</span></p>\n
LOCATION:December 8th and 10th\, 2023 Locations TBA
UID:e.298.88471
SEQUENCE:3
DTSTAMP:20260423T080147Z
URL:https://members.evergreenchamber.org/events/details/the-evergreen-chorale-presents-a-holiday-concert-to-be-determined-88471
END:VEVENT

END:VCALENDAR
