BEGIN:VCALENDAR
VERSION:2.0
PRODID:-//ChamberMaster//Event Calendar 2.0//EN
METHOD:PUBLISH
X-PUBLISHED-TTL:P3D
REFRESH-INTERVAL:P3D
CALSCALE:GREGORIAN
BEGIN:VEVENT
DTSTART:20210827T230000Z
DTEND:20210828T020000Z
X-MICROSOFT-CDO-ALLDAYEVENT:FALSE
SUMMARY:The Dam Duo Live at The Wild Game Evergreen
DESCRIPTION:Laid back Singer-Songwriter vibes. No cover.
X-ALT-DESC;FMTTYPE=text/html:Laid back Singer-Songwriter vibes. No cover.
LOCATION:The Wild Game Evergreen 1204 Bergen Parkway Colorado United States\, 80439
UID:e.298.84378
SEQUENCE:3
DTSTAMP:20260425T013306Z
URL:https://members.evergreenchamber.org/events/details/the-dam-duo-live-at-the-wild-game-evergreen-84378
END:VEVENT

END:VCALENDAR
