BEGIN:VCALENDAR
VERSION:2.0
PRODID:-//ChamberMaster//Event Calendar 2.0//EN
METHOD:PUBLISH
X-PUBLISHED-TTL:P3D
REFRESH-INTERVAL:P3D
CALSCALE:GREGORIAN
BEGIN:VEVENT
DTSTART:20211119T183000Z
DTEND:20211119T203000Z
X-MICROSOFT-CDO-ALLDAYEVENT:FALSE
SUMMARY:Thanksgiving Lunch
DESCRIPTION:Seniors4Wellness will be available for meetings at the Douglas Hall located at the Church of the Transfiguration in Evergreen to discuss the need for providing senior services to the mountain community
X-ALT-DESC;FMTTYPE=text/html:Seniors4Wellness will be available for meetings at the Douglas Hall located at the Church of the Transfiguration in Evergreen to discuss the need for providing senior services to the mountain community
LOCATION:The Church of the Transfiguration Douglas Hall 27640 Hwy 74 Evergreen\, CO 80439
UID:e.298.85926
SEQUENCE:3
DTSTAMP:20260424T210500Z
URL:https://members.evergreenchamber.org/events/details/thanksgiving-lunch-85926
END:VEVENT

END:VCALENDAR
