BEGIN:VCALENDAR
VERSION:2.0
PRODID:-//ChamberMaster//Event Calendar 2.0//EN
METHOD:PUBLISH
X-PUBLISHED-TTL:P3D
REFRESH-INTERVAL:P3D
CALSCALE:GREGORIAN
BEGIN:VEVENT
DTSTART:20241128T020000Z
DTEND:20241128T030000Z
X-MICROSOFT-CDO-ALLDAYEVENT:FALSE
SUMMARY:Thanksgiving Eve Worship Service
DESCRIPTION:
X-ALT-DESC;FMTTYPE=text/html:
LOCATION:
UID:e.298.95719
SEQUENCE:3
DTSTAMP:20260422T165705Z
URL:https://members.evergreenchamber.org/events/details/thanksgiving-eve-worship-service-95719
END:VEVENT

END:VCALENDAR
