BEGIN:VCALENDAR
VERSION:2.0
PRODID:-//ChamberMaster//Event Calendar 2.0//EN
METHOD:PUBLISH
X-PUBLISHED-TTL:P3D
REFRESH-INTERVAL:P3D
CALSCALE:GREGORIAN
BEGIN:VEVENT
DTSTART:20220920T183000Z
DTEND:20220920T220000Z
X-MICROSOFT-CDO-ALLDAYEVENT:FALSE
SUMMARY:TEE off for TASTE
DESCRIPTION:TEE off for TASTE\n\nJoin us for a friendly golf scramble outing!
X-ALT-DESC;FMTTYPE=text/html:<strong>TEE off for TASTE</strong><br />\nJoin us for a friendly golf scramble outing!
LOCATION:Evergreen Public Golf Course 29614 Upper Bear Creek Rd\, Evergreen\, CO 80439
UID:e.298.87840
SEQUENCE:3
DTSTAMP:20260424T053824Z
URL:https://members.evergreenchamber.org/events/details/tee-off-for-taste-87840
END:VEVENT

END:VCALENDAR
