BEGIN:VCALENDAR
VERSION:2.0
PRODID:-//ChamberMaster//Event Calendar 2.0//EN
METHOD:PUBLISH
X-PUBLISHED-TTL:P3D
REFRESH-INTERVAL:P3D
CALSCALE:GREGORIAN
BEGIN:VEVENT
DTSTART:20240917T223000Z
DTEND:20240918T013000Z
X-MICROSOFT-CDO-ALLDAYEVENT:FALSE
SUMMARY:Taste of Evergreen - 2024
DESCRIPTION:Who doesn't like a great party? Join us as we explore the various food offerings from some of Evergreen and the Foothill's best restaurants\, caterers\, breweries and distilleries. Each chef will choose something for you to try. We will have a contest to determine the Best Savory Bite\, Best Sweet Bite\, Best Brew\, Best Spirit\, Best Sip (non-alcoholic) of the Taste\, and Java Jolt award for best coffee of the Taste.  This is a fun community event for all ages and you will not leave hungry. We will also have a beer and wine garden. We will have live local music to round out the festivities.\n\n\n\nJOIN US for a night of food\, fun and music!
X-ALT-DESC;FMTTYPE=text/html:<h5 style="line-height: 24px\; color: rgb(51\, 51\, 51)\; box-sizing: border-box\; font-family: Merriweather\, serif\; margin: 15px 0px 5px\;"><span style="font-size:14px\;">Who doesn&#39\;t like a great party? Join us as we explore the various food offerings from some of Evergreen and the Foothill&#39\;s&nbsp\;best restaurants\, caterers\, breweries and distille</span><span style="font-size:14px\;">ries. Each chef will choose something for you to try. We will have a contest to determine the Best Savory Bite\,&nbsp\;Best Sweet Bite\, Best Brew\, Best Spirit\, Best Sip (non-alcoholic) of the Taste\, and&nbsp\;Java Jolt award for best coffee of the Taste.&nbsp\; This is a fun community event for all ages and you will not leave hungry. We will also have&nbsp\;a beer and wine garden. We will have live local music to round out the festivities.<br />\n<br />\n<strong>JOIN US for a night of food\, fun and music!</strong></span></h5>\n
LOCATION:Evergreen Lake House Evergreen\, Colorado
UID:e.298.88358
SEQUENCE:3
DTSTAMP:20260422T195506Z
URL:https://members.evergreenchamber.org/events/details/taste-of-evergreen-2024-09-17-2024-88358
END:VEVENT

END:VCALENDAR
