BEGIN:VCALENDAR
VERSION:2.0
PRODID:-//ChamberMaster//Event Calendar 2.0//EN
METHOD:PUBLISH
X-PUBLISHED-TTL:P3D
REFRESH-INTERVAL:P3D
CALSCALE:GREGORIAN
BEGIN:VEVENT
DTSTART:20220920T223000Z
DTEND:20220921T055500Z
X-MICROSOFT-CDO-ALLDAYEVENT:FALSE
SUMMARY:Taste of Evergreen - 2022
DESCRIPTION:Who doesn't like a great party? Join us as we explore the various food offerings from some of Evergreen's best restaurants and caterers. Each chef will choose something for you to try. We will have a contest to determine the Best Savory Bite\, Best Sweet Bite\, Best Brew\, Best Spirit\, Best Sip (non-alcoholic) of the Taste\, and Java Jolt award for best coffee of the Taste.  This is a fun community event for all ages and you will not leave hungry. Once again this year there will be a beer and wine garden. Music will be provided by John Erlandson.\n\n\n\nJOIN US at the Evergreen Lake House for a night of fun\, food and music!
X-ALT-DESC;FMTTYPE=text/html:<h5 style="line-height: 24px\; color: rgb(51\, 51\, 51)\; box-sizing: border-box\; font-family: Merriweather\, serif\; margin: 15px 0px 5px\;"><span style="font-size:14px\;">Who doesn&#39\;t like a great party? Join us as we explore the various food offerings from some of Evergreen&#39\;s best restaurants and caterers. Each chef will choose something for you to try. We will have a contest to determine the Best Savory Bite\,&nbsp\;Best Sweet Bite\, Best Brew\, Best Spirit\, Best Sip (non-alcoholic) of the Taste\, and&nbsp\;Java Jolt award for best coffee of the Taste.&nbsp\; This is a fun community event for all ages and you will not leave hungry. Once again this year there will be a beer and wine garden. Music will be provided by John Erlandson.<br />\n<br />\n<strong>JOIN US at the Evergreen Lake House for a night of fun\, food and music!&nbsp\;</strong></span></h5>\n
LOCATION:Evergreen Lake House
UID:e.298.86403
SEQUENCE:3
DTSTAMP:20260424T054203Z
URL:https://members.evergreenchamber.org/events/details/taste-of-evergreen-2022-86403
END:VEVENT

END:VCALENDAR
