BEGIN:VCALENDAR
VERSION:2.0
PRODID:-//ChamberMaster//Event Calendar 2.0//EN
METHOD:PUBLISH
X-PUBLISHED-TTL:P3D
REFRESH-INTERVAL:P3D
CALSCALE:GREGORIAN
BEGIN:VEVENT
DTSTART:20221113T000000Z
DTEND:20221113T030000Z
X-MICROSOFT-CDO-ALLDAYEVENT:FALSE
SUMMARY:Sweetwater Boutique Ladies Night
DESCRIPTION:Get started or finish up your holiday shopping. Take advantage of storewide sales\, drinks\, and nibbles.
X-ALT-DESC;FMTTYPE=text/html:Get started or finish up your holiday shopping. Take advantage of storewide sales\, drinks\, and nibbles.
LOCATION:Sweetwater Boutique Downtown Evergreen 28125 Hwy 74
UID:e.298.88472
SEQUENCE:3
DTSTAMP:20260424T023357Z
URL:https://members.evergreenchamber.org/events/details/sweetwater-boutique-ladies-night-88472
END:VEVENT

END:VCALENDAR
