BEGIN:VCALENDAR
VERSION:2.0
PRODID:-//ChamberMaster//Event Calendar 2.0//EN
METHOD:PUBLISH
X-PUBLISHED-TTL:P3D
REFRESH-INTERVAL:P3D
CALSCALE:GREGORIAN
BEGIN:VEVENT
DTSTART:20250608T200000Z
DTEND:20250609T000000Z
X-MICROSOFT-CDO-ALLDAYEVENT:FALSE
SUMMARY:Super Premium Ultra Deluxe - Live Creekside Music
DESCRIPTION:We Love these guys! Super Premium Ultra Deluxe (SPUD) plays an eclectic mix of funky in-the-pocket grooves. They are a Drummer\, Bass\, Guitar\, Congas\, Synth and Sax with occasional Marimba (it ain't easy carrying that thing around). You never know who's gonna show up for a sit in!
X-ALT-DESC;FMTTYPE=text/html:<span style="color:rgb(8\, 8\, 9)\; font-family:system-ui\,-apple-system\,system-ui\,.sfnstext-regular\,sans-serif\; font-size:15px">We Love these guys! Super Premium Ultra Deluxe (SPUD) plays an eclectic mix of funky in-the-pocket grooves. They are a Drummer\, Bass\, Guitar\, Congas\, Synth and Sax with occasional Marimba (it ain&rsquo\;t easy carrying that thing around). You never know who&#39\;s gonna show up for a sit in!</span>
LOCATION:Cactus Jack's in downtown Evergreen
UID:e.298.99786
SEQUENCE:3
DTSTAMP:20260420T072944Z
URL:https://members.evergreenchamber.org/events/details/super-premium-ultra-deluxe-live-creekside-music-99786
END:VEVENT

END:VCALENDAR
