BEGIN:VCALENDAR
VERSION:2.0
PRODID:-//ChamberMaster//Event Calendar 2.0//EN
METHOD:PUBLISH
X-PUBLISHED-TTL:P3D
REFRESH-INTERVAL:P3D
CALSCALE:GREGORIAN
BEGIN:VEVENT
DTSTART:20250629T200000Z
DTEND:20250629T230000Z
X-MICROSOFT-CDO-ALLDAYEVENT:FALSE
SUMMARY:Summer Patio Live Music at Evermore
DESCRIPTION:Every Sunday 2-5pm join us at Evermore Wine Bar & Cafe for live music at the patio.
X-ALT-DESC;FMTTYPE=text/html:Every Sunday 2-5pm join us at Evermore Wine Bar &amp\; Cafe for live music at the patio.
LOCATION:Evermore Wine Bar & Cafe
UID:e.298.100216
SEQUENCE:3
DTSTAMP:20260420T063821Z
URL:https://members.evergreenchamber.org/events/details/summer-patio-live-music-at-evermore-100216
END:VEVENT

END:VCALENDAR
