BEGIN:VCALENDAR
VERSION:2.0
PRODID:-//ChamberMaster//Event Calendar 2.0//EN
METHOD:PUBLISH
X-PUBLISHED-TTL:P3D
REFRESH-INTERVAL:P3D
CALSCALE:GREGORIAN
BEGIN:VEVENT
DTSTART:20210729T000000Z
DTEND:20210729T013000Z
X-MICROSOFT-CDO-ALLDAYEVENT:FALSE
SUMMARY:Summer Concert Series #2
DESCRIPTION:Check back soon for more details
X-ALT-DESC;FMTTYPE=text/html:Check back soon for more details
LOCATION:
UID:e.298.83873
SEQUENCE:3
DTSTAMP:20260425T025601Z
URL:https://members.evergreenchamber.org/events/details/summer-concert-series-2-83873
END:VEVENT

END:VCALENDAR
