BEGIN:VCALENDAR
VERSION:2.0
PRODID:-//ChamberMaster//Event Calendar 2.0//EN
METHOD:PUBLISH
X-PUBLISHED-TTL:P3D
REFRESH-INTERVAL:P3D
CALSCALE:GREGORIAN
BEGIN:VEVENT
DTSTART:20250621T160000Z
DTEND:20250621T200000Z
X-MICROSOFT-CDO-ALLDAYEVENT:FALSE
SUMMARY:Spring Clean Recycling Event
DESCRIPTION:Spring Clean Recycling event held at Evergreen High School parking lot on June 21\, 2025.  10am-2pm.\n\nCollecting electronics\, paint\, block styrofoam\, glass\, barbed wire\, scrap metal\n\n\n\n	Electronics- small appliances. NO freon of any sort.\n	Glass- brown\, clear\, green or blue colored. NO vases\, crystal\, plates or windows\n	Block styrofoam- NO peanuts or food containers\n	Paint cans- with or without paint. NO stain or lacquer\n	Barbed wire- please put at the top of pile in your car- this will be unloaded first during event\n	Scrap Metal- NO pressurized containers like propane\, hairspray\, paint\, etc.\n\nItems that will cost: Please bring your credit card as these fees must to be paid to electronic hauler\, fees DO NOT go to ESA\n\nTV- any size\, $35/each\n\nMonitor- (think any desktop\, flat screen) $10/each\n\nPrinters\, fax machines\, scanners or copiers- $5/each\n\nCRT Monitors (think big\, bulky desktop computer)- $50/each\n\n\n\n\nCash or Venmo donations are greatly appreciated\, this event is a fundraiser for ESA!
X-ALT-DESC;FMTTYPE=text/html:Spring Clean Recycling event held at <strong>Evergreen High School</strong> parking lot on <strong>June 21\, 2025.&nbsp\; 10am-2pm</strong>.<br />\nCollecting electronics\, paint\, block styrofoam\, glass\, barbed wire\, scrap metal\n<div>\n<div>\n<ul>\n	<li><strong>Electronics</strong><span style="color:rgb(41\, 52\, 47)">- small appliances. </span><strong>NO</strong><span style="color:rgb(41\, 52\, 47)"> freon of any sort.</span></li>\n	<li><strong>Glass</strong><span style="color:rgb(41\, 52\, 47)">- brown\, clear\, green or blue colored. </span><strong>NO</strong><span style="color:rgb(41\, 52\, 47)"> vases\, crystal\, plates or windows</span></li>\n	<li><strong>Block styrofoam</strong><span style="color:rgb(41\, 52\, 47)">- </span><strong>NO</strong><span style="color:rgb(41\, 52\, 47)"> peanuts or food containers</span></li>\n	<li><strong>Paint cans</strong><span style="color:rgb(41\, 52\, 47)">- with or without paint. </span><strong>NO</strong><span style="color:rgb(41\, 52\, 47)"> stain or lacquer</span></li>\n	<li><strong>Barbed wire</strong><span style="color:rgb(41\, 52\, 47)">- please put at the top of pile in your car- this will be unloaded first during event</span></li>\n	<li><strong>Scrap Metal</strong><span style="color:rgb(41\, 52\, 47)">- </span><strong>NO</strong><span style="color:rgb(41\, 52\, 47)"> pressurized containers like propane\, hairspray\, paint\, etc.</span></li>\n</ul>\n<strong>Items that will cost:</strong><span style="color:rgb(41\, 52\, 47)"> Please bring your credit card as these fees must to be paid to electronic hauler\, fees DO NOT go to ESA</span><br />\n<strong>TV</strong><span style="color:rgb(41\, 52\, 47)">- any </span><span style="color:rgb(41\, 52\, 47)">s</span><span style="color:rgb(41\, 52\, 47)">ize\, $35/each</span><br />\n<strong>Moni</strong><strong>t</strong><strong>or</strong><span style="color:rgb(41\, 52\, 47)">- (think any desktop\, flat screen) $10/each</span><br />\n<strong>Printers\, fax machines\, scanners or copiers</strong><span style="color:rgb(41\, 52\, 47)">- $5/each</span><br />\n<strong>CRT Monitors</strong><span style="color:rgb(41\, 52\, 47)"> (think big\, bulky desktop computer)- $50/each</span>\n\n<div>\n<div>\n<div style="text-align:center">\n<p><strong>Cash or Venmo donations are greatly appreciated\, this event is a fundraiser for ESA!</strong></p>\n</div>\n</div>\n</div>\n</div>\n</div>\n
LOCATION:Evergreen High School Parking Lot
UID:e.298.99562
SEQUENCE:3
DTSTAMP:20260420T081815Z
URL:https://members.evergreenchamber.org/events/details/spring-clean-recycling-event-99562
END:VEVENT

END:VCALENDAR
