BEGIN:VCALENDAR
VERSION:2.0
PRODID:-//ChamberMaster//Event Calendar 2.0//EN
METHOD:PUBLISH
X-PUBLISHED-TTL:P3D
REFRESH-INTERVAL:P3D
CALSCALE:GREGORIAN
BEGIN:VEVENT
DTSTART:20251123T170000Z
DTEND:20251123T210000Z
X-MICROSOFT-CDO-ALLDAYEVENT:FALSE
SUMMARY:Spread Sparkle for all to Enjoy
DESCRIPTION:The Sparkle Center is opening to the Community.  Come visit and marvel at all the beauty and sparkle and take a piece to enjoy at your home
X-ALT-DESC;FMTTYPE=text/html:The Sparkle Center is opening to the Community.&nbsp\; Come visit and marvel at all the beauty and sparkle and take a piece to enjoy at your home
LOCATION:6949 Hwy 73 Suite 13 Evergreen\, CO 80439
UID:e.298.104026
SEQUENCE:3
DTSTAMP:20260419T224907Z
URL:https://members.evergreenchamber.org/events/details/spread-sparkle-for-all-to-enjoy-11-23-2025-104026
END:VEVENT

END:VCALENDAR
