BEGIN:VCALENDAR
VERSION:2.0
PRODID:-//ChamberMaster//Event Calendar 2.0//EN
METHOD:PUBLISH
X-PUBLISHED-TTL:P3D
REFRESH-INTERVAL:P3D
CALSCALE:GREGORIAN
BEGIN:VEVENT
DTSTART:20210815T000000Z
DTEND:20210815T040000Z
X-MICROSOFT-CDO-ALLDAYEVENT:FALSE
SUMMARY:Sparkle and Shine Annual Business Awards and Gala
DESCRIPTION:Sparkle & Shine: Annual Business Awards & Gala\n\n\n\nJoin us for a night of celebrating our stars.  Our annual business awards is a casino night and will be held at El Rancho this year.  Dress up and join us for a fantastic evening filled with testing your luck at the casino tables\,  partaking in amazing food and drink and hanging out with your fellow business owners.  Black tie optional. Event sells out\, purchase your tickets early.
X-ALT-DESC;FMTTYPE=text/html:<div font-size:="" style="color: rgb(51\, 51\, 51)\; font-family: sans-serif\, Arial\, Verdana\, &quot\;Trebuchet MS&quot\;\; font-size: 13px\; text-align: center\;" text-align:="" trebuchet="">Sparkle &amp\; Shine: Annual Business Awards &amp\; Gala<br />\n<br />\nJoin us for a night of celebrating our stars.&nbsp\; Our annual business awards is a casino night and will be held at El Rancho this year.&nbsp\; Dress up and join us for a fantastic evening filled with testing your luck at the casino tables\,&nbsp\; partaking in amazing food and drink and hanging out with your fellow business owners.&nbsp\; Black tie optional. Event sells out\, purchase your tickets early.</div>\n
LOCATION:Historic El Rancho is the site of this years award celebration.
UID:e.298.80470
SEQUENCE:3
DTSTAMP:20260425T013307Z
URL:https://members.evergreenchamber.org/events/details/sparkle-and-shine-annual-business-awards-and-gala-80470
END:VEVENT

END:VCALENDAR
