BEGIN:VCALENDAR
VERSION:2.0
PRODID:-//ChamberMaster//Event Calendar 2.0//EN
METHOD:PUBLISH
X-PUBLISHED-TTL:P3D
REFRESH-INTERVAL:P3D
CALSCALE:GREGORIAN
BEGIN:VEVENT
DTSTART:20250419T000000Z
DTEND:20250419T020000Z
X-MICROSOFT-CDO-ALLDAYEVENT:FALSE
SUMMARY:Sound Bath
DESCRIPTION:Get ready for an unforgettable experience! Eudaimonia is hosting an incredible sound bath session on Friday\, 4/18 at 6 PM! Let yourself float weightlessly in a yoga hammock\, wrapped in cozy blankets\, as you drift into pure relaxation. Lauren and Nolen will lead you through an immersive sound journey\, using powerful instruments to create a deeply soothing and transformative atmosphere. Don't miss out on this unique opportunity to unwind and recharge!
X-ALT-DESC;FMTTYPE=text/html:<span style="font-family:arial\,helvetica\,sans-serif"><span style="font-size:14px">Get ready for an unforgettable experience! Eudaimonia is hosting an incredible sound bath session on Friday\, 4/18 at 6 PM! Let yourself float weightlessly in a yoga hammock\, wrapped in cozy blankets\, as you drift into pure relaxation. <strong><a href="https://www.instagram.com/heartnectarhealing/" target="_blank">Lauren</a></strong>&nbsp\;and&nbsp\;<strong><a href="https://www.instagram.com/yogi_noli/" target="_blank">Nolen</a></strong> will lead you through an immersive sound journey\, using powerful instruments to create a deeply soothing and transformative atmosphere. Don&rsquo\;t miss out on this unique opportunity to unwind and recharge!</span></span>
LOCATION:Eudaimonia HFC 4471 Parmalee Gulch Road Indian Hills\, CO 80454
UID:e.298.99530
SEQUENCE:3
DTSTAMP:20260420T100751Z
URL:https://members.evergreenchamber.org/events/details/sound-bath-99530
END:VEVENT

END:VCALENDAR
