BEGIN:VCALENDAR
VERSION:2.0
PRODID:-//ChamberMaster//Event Calendar 2.0//EN
METHOD:PUBLISH
X-PUBLISHED-TTL:P3D
REFRESH-INTERVAL:P3D
CALSCALE:GREGORIAN
BEGIN:VEVENT
DTSTART:20251108T160000Z
DTEND:20251108T183000Z
X-MICROSOFT-CDO-ALLDAYEVENT:FALSE
SUMMARY:Soulshop - Faith Based Suicide Prevention
DESCRIPTION:Soul Shop is a community-focused training designed to equip the faith community to become sources of hope and healing for those impacted by suicide. Rooted in faith\, this workshop raises awareness of suicide as a public health crisis and empowers participants to take meaningful action within their community.
X-ALT-DESC;FMTTYPE=text/html:Soul Shop is a community-focused training designed to equip the faith community to become sources of hope and healing for those impacted by suicide. Rooted in faith\, this workshop raises awareness of suicide as a public health crisis and empowers participants to take meaningful action within their community.
LOCATION:Bergen Park Church
UID:e.298.103980
SEQUENCE:3
DTSTAMP:20260419T224921Z
URL:https://members.evergreenchamber.org/events/details/soulshop-faith-based-suicide-prevention-103980
END:VEVENT

END:VCALENDAR
