BEGIN:VCALENDAR
VERSION:2.0
PRODID:-//ChamberMaster//Event Calendar 2.0//EN
METHOD:PUBLISH
X-PUBLISHED-TTL:P3D
REFRESH-INTERVAL:P3D
CALSCALE:GREGORIAN
BEGIN:VEVENT
DTSTART:20221006T003000Z
DTEND:20221006T030000Z
X-MICROSOFT-CDO-ALLDAYEVENT:FALSE
SUMMARY:Sips for Scholarships with the Bistro at Marshdale
DESCRIPTION:Bootstraps Scholarships & Loans cordially invites you to Sips for Scholarships at The Bistro at Marshdale on October 5. Sips for Scholarships\, a food and wine pairing dinner will benefit Bootstraps\, Inc. We help mountain-area graduating high school seniors pursue their educational dreams through scholarships and interest free loans.\n\n\n\nThe event will feature wine and food pairings and a paddle raiser providing an opportunity to donate to Bootstraps.\n\n\n\nThe event will be held on Wednesday\, October 5 at 6:30 p.m. at the Bistro at Marshdale at 27376 Spruce Ln\, Evergreen\, CO 80439. Tickets are $70 per person and can be purchased at bootstrapsinc.org. For more information contact 720-630-9338.
X-ALT-DESC;FMTTYPE=text/html:Bootstraps Scholarships &amp\; Loans cordially invites you to <strong>Sips for Scholarships at The Bistro at Marshdale on October 5</strong>. Sips for Scholarships\, a food and wine pairing dinner will benefit Bootstraps\, Inc. We help mountain-area graduating high school seniors pursue their educational dreams through scholarships and interest free loans.<br />\n<br />\nThe event will feature wine and food pairings and a paddle raiser providing an opportunity to donate to Bootstraps.<br />\n<br />\nThe event will be held on Wednesday\, October 5 at 6:30 p.m. at the Bistro at Marshdale at <span style="color:black"><span style="font-family:helvetica\,sans-serif"><span style="font-size:10.0pt">27376 Spruce Ln\, Evergreen\, CO 80439</span></span></span>. Tickets are $70 per person and can be purchased at bootstrapsinc.org. For more information contact 720-630-9338.
LOCATION:The Bistro at Marshdale at 27376 Spruce Ln\, Evergreen\, CO 80439.
UID:e.298.86425
SEQUENCE:3
DTSTAMP:20260424T040718Z
URL:https://members.evergreenchamber.org/events/details/sips-for-scholarships-with-the-bistro-at-marshdale-86425
END:VEVENT

END:VCALENDAR
