BEGIN:VCALENDAR
VERSION:2.0
PRODID:-//ChamberMaster//Event Calendar 2.0//EN
METHOD:PUBLISH
X-PUBLISHED-TTL:P3D
REFRESH-INTERVAL:P3D
CALSCALE:GREGORIAN
BEGIN:VEVENT
DTSTART:20251107T010000Z
DTEND:20251107T040000Z
X-MICROSOFT-CDO-ALLDAYEVENT:FALSE
SUMMARY:Sips for Scholarships - Evoke 1923
DESCRIPTION:Join us for an elegant evening of fine wine at Evoke 1923\, all in support of Bootstraps. Sip\, savor\, and make a difference for mountain-area students while enjoying live music and great company.
X-ALT-DESC;FMTTYPE=text/html:<span style="color:rgb(0\, 0\, 0)\; font-family:open sans\,sans-serif\; font-size:16px">Join us for an elegant evening of fine wine at Evoke 1923\, all in support of Bootstraps. Sip\, savor\, and make a difference for mountain-area students while enjoying live music and great company. </span>
LOCATION:Evoke 1923 27376 Spruce Ln Evergreen\, CO 80439
UID:e.298.99641
SEQUENCE:3
DTSTAMP:20260419T224616Z
URL:https://members.evergreenchamber.org/events/details/sips-for-scholarships-evoke-1923-99641
END:VEVENT

END:VCALENDAR
