BEGIN:VCALENDAR
VERSION:2.0
PRODID:-//ChamberMaster//Event Calendar 2.0//EN
METHOD:PUBLISH
X-PUBLISHED-TTL:P3D
REFRESH-INTERVAL:P3D
CALSCALE:GREGORIAN
BEGIN:VEVENT
DTSTART:20230429T220000Z
DTEND:20230430T000000Z
X-MICROSOFT-CDO-ALLDAYEVENT:FALSE
SUMMARY:Sip\, Socialize & Shop
DESCRIPTION:Kickoff event for our Women in Business Luncheon!\n\n\n\nMeet the influential minds driving our local businesses and leave with promising new connections + familiar friendly faces to make the most of the upcoming event. \n\n\n\nThis is an opportunity you don't want to miss!
X-ALT-DESC;FMTTYPE=text/html:Kickoff event for our Women in Business Luncheon!<br />\n<br />\nMeet the influential minds driving our local businesses and leave with promising new connections + familiar friendly faces to make the most of the upcoming event.&nbsp\;<br />\n<br />\nThis is an opportunity you don&#39\;t want to miss!
LOCATION:The Evergreen Gallery. Hosted by: The Evergreen Gallery\, Bergen Peak Realty & State Farm Agent Jennifer Gann.
UID:e.298.89488
SEQUENCE:3
DTSTAMP:20260423T193306Z
URL:https://members.evergreenchamber.org/events/details/sip-socialize-shop-89488
END:VEVENT

END:VCALENDAR
