BEGIN:VCALENDAR
VERSION:2.0
PRODID:-//ChamberMaster//Event Calendar 2.0//EN
METHOD:PUBLISH
X-PUBLISHED-TTL:P3D
REFRESH-INTERVAL:P3D
CALSCALE:GREGORIAN
BEGIN:VEVENT
DTSTART:20250611T183000Z
DTEND:20250611T200000Z
X-MICROSOFT-CDO-ALLDAYEVENT:FALSE
SUMMARY:Seniors4Wellness Wellness Class
DESCRIPTION:Our Wellness Classes promote healthy living\, not only for our physical bodies but also emotionally\, mentally\, etc. In the past\, we have had classes on healthy eating\, fire safety and computer/technology help. In the future\, we plan to do more of the same and hope to add more classes - tell us about topics that are of interest to you!
X-ALT-DESC;FMTTYPE=text/html:<span style="color:rgb(10\, 74\, 110)\; font-family:futura-lt-w01-light\,futura-lt-w05-light\,sans-serif\; font-size:19px">Our Wellness Classes</span><span style="color:rgb(10\, 74\, 110)\; font-family:futura-lt-w01-light\,futura-lt-w05-light\,sans-serif\; font-size:19px">&nbsp\;promote healthy living\, not only for our physical bodies but also emotionally\, mentally\, etc. In the past\, we have had classes on healthy eating\, fire safety and computer/technology help. In the future\, we plan to do more of the same and hope to add more classes - tell us about topics that are of interest to you!</span>
LOCATION:Bergen Park Church 31919 Rocky Village Drive Evergreen\, CO 80439
UID:e.298.95648
SEQUENCE:3
DTSTAMP:20260420T063702Z
URL:https://members.evergreenchamber.org/events/details/seniors4wellness-wellness-class-06-11-2025-95648
END:VEVENT

END:VCALENDAR
