BEGIN:VCALENDAR
VERSION:2.0
PRODID:-//ChamberMaster//Event Calendar 2.0//EN
METHOD:PUBLISH
X-PUBLISHED-TTL:P3D
REFRESH-INTERVAL:P3D
CALSCALE:GREGORIAN
BEGIN:VEVENT
DTSTART:20250422T233000Z
DTEND:20250423T010000Z
X-MICROSOFT-CDO-ALLDAYEVENT:FALSE
SUMMARY:Seed Starts for Veggie/Flower Garden
DESCRIPTION:We'll discuss and follow best practices for starting and tending seeds. Skip the hassle of selecting and buying too many seeds\, (though some of us find it the best way to spend New Year's Day!)\, and seed starting supplies\, and ease into growing. If you have any requests for seeds\, please list in Special Instructions and I'll do my best to accommodate. This is one of those (many!) things that is SO much more efficient and fun done together. Drink included with registration. Note: If you'd like to collect egg cartons (plastic & pulpboard) and any sort of plastic tubs (yogurt\, cottage cheese\, etc.)\, please bring with you\, or get in touch with me and I will collect. We'll reuse these! Growing your own greens is a great environmental help. Register at https://sedumandsage.com/2025-plant-parties
X-ALT-DESC;FMTTYPE=text/html:We&rsquo\;ll discuss and follow best practices for starting and tending seeds. Skip the hassle of selecting and buying too many seeds\, (though some of us find it the best way to spend New Year&rsquo\;s Day!)\, and seed starting supplies\, and ease into growing. If you have any requests for seeds\, please list in Special Instructions and I&rsquo\;ll do my best to accommodate. This is one of those (many!) things that is SO much more efficient and fun done together. Drink included with registration. Note: If you&rsquo\;d like to collect egg cartons (plastic &amp\; pulpboard) and any sort of plastic tubs (yogurt\, cottage cheese\, etc.)\, please bring with you\, or get in touch with me and I will collect. We&rsquo\;ll reuse these! Growing your own greens is a great environmental help. Register at https://sedumandsage.com/2025-plant-parties
LOCATION:The Wild Game
UID:e.298.99405
SEQUENCE:3
DTSTAMP:20260420T102823Z
URL:https://members.evergreenchamber.org/events/details/seed-starts-for-veggie-flower-garden-99405
END:VEVENT

END:VCALENDAR
