BEGIN:VCALENDAR
VERSION:2.0
PRODID:-//ChamberMaster//Event Calendar 2.0//EN
METHOD:PUBLISH
X-PUBLISHED-TTL:P3D
REFRESH-INTERVAL:P3D
CALSCALE:GREGORIAN
BEGIN:VEVENT
DTSTART:20251213T020000Z
DTEND:20251213T040000Z
X-MICROSOFT-CDO-ALLDAYEVENT:FALSE
SUMMARY:Season of Joy
DESCRIPTION:The 85 voices of the Evergreen Chorale are bringing beauty and joy to the Holiday Season with 2 concerts in Evergreen and 1 in Denver. Sing in the holiday spirit with classic carols\, Christmas favorites\, and new works of unparalleled beauty.
X-ALT-DESC;FMTTYPE=text/html:The 85 voices of the Evergreen Chorale are bringing beauty and joy to the Holiday Season with 2 concerts in Evergreen and 1 in Denver. Sing in the holiday spirit with classic carols\, Christmas favorites\, and new works of unparalleled beauty.
LOCATION:Evergreen Lutheran Church 5980 County Hwy 73\, Evergreen\, CO 80439
UID:e.298.104048
SEQUENCE:3
DTSTAMP:20260419T210941Z
URL:https://members.evergreenchamber.org/events/details/season-of-joy-104048
END:VEVENT

END:VCALENDAR
