BEGIN:VCALENDAR
VERSION:2.0
PRODID:-//ChamberMaster//Event Calendar 2.0//EN
METHOD:PUBLISH
X-PUBLISHED-TTL:P3D
REFRESH-INTERVAL:P3D
CALSCALE:GREGORIAN
BEGIN:VEVENT
DTSTART:20250614T160000Z
DTEND:20250615T030000Z
X-MICROSOFT-CDO-ALLDAYEVENT:FALSE
SUMMARY:Saturday Evergreen Rodeo Parade Day!! Revival Brews opens at 10am!! With Live Music by Pass the Snakes!!
DESCRIPTION:Revival Brews will be opening Saturday June 14th at 10 am for the Evergreen Downtown Rodeo Parade!! We will have a patio cash bar\, full bar inside with a full food menu plus specials!! Pass the Snakes will be playing live on the patio during and after the parade!! Come enjoy an amazing local live string band for free!! We are excited to celebrate this awesome yearly event in beautiful downtown Evergreen!! Thank you to all our locals and customers!! We hope to see you Saturday! Cheers!!
X-ALT-DESC;FMTTYPE=text/html:Revival Brews will be opening Saturday June 14th at 10 am for the Evergreen Downtown Rodeo Parade!! We will have a patio cash bar\, full bar inside with a full food menu plus specials!! Pass the Snakes will be playing live on the patio during and after the parade!! Come enjoy an amazing local live string band for free!! We are excited to celebrate this awesome yearly event in beautiful downtown Evergreen!! Thank you to all our locals and customers!! We hope to see you Saturday! Cheers!!
LOCATION:Revival Brews Hwy 74 27845 downtown Evergreen
UID:e.298.100165
SEQUENCE:3
DTSTAMP:20260420T070939Z
URL:https://members.evergreenchamber.org/events/details/saturday-evergreen-rodeo-parade-day-revival-brews-opens-at-10am-with-live-music-by-pass-the-snakes-100165
END:VEVENT

END:VCALENDAR
