BEGIN:VCALENDAR
VERSION:2.0
PRODID:-//ChamberMaster//Event Calendar 2.0//EN
METHOD:PUBLISH
X-PUBLISHED-TTL:P3D
REFRESH-INTERVAL:P3D
CALSCALE:GREGORIAN
BEGIN:VEVENT
DTSTART:20201205T010000Z
DTEND:20201205T020000Z
X-MICROSOFT-CDO-ALLDAYEVENT:FALSE
SUMMARY:Santa reading The Polar Express presented by the RPM Agency Insurance Brokerage
DESCRIPTION:Grab some hot chocolate and cuddle up to listen to Santa reading the holiday classic: The Polar Express. The first of 5 holiday readings for a Story Book Holiday in Evergreen. Thank you to our sponsor for this reading: RPM Agency Insurance Brokerage.
X-ALT-DESC;FMTTYPE=text/html:Grab some hot chocolate and cuddle up to listen to Santa reading the holiday classic: The Polar Express. The first of 5 holiday readings for a Story Book Holiday in Evergreen. Thank you to our sponsor for this reading: RPM Agency Insurance Brokerage.
LOCATION:This event will take place on the Evergreen Chamber YouTube page. Link is below.
UID:e.298.83250
SEQUENCE:3
DTSTAMP:20260425T142025Z
URL:https://members.evergreenchamber.org/events/details/santa-reading-the-polar-express-presented-by-the-rpm-agency-insurance-brokerage-83250
END:VEVENT

END:VCALENDAR
