BEGIN:VCALENDAR
VERSION:2.0
PRODID:-//ChamberMaster//Event Calendar 2.0//EN
METHOD:PUBLISH
X-PUBLISHED-TTL:P3D
REFRESH-INTERVAL:P3D
CALSCALE:GREGORIAN
BEGIN:VEVENT
DTSTART:20251206T163000Z
DTEND:20251206T180000Z
X-MICROSOFT-CDO-ALLDAYEVENT:FALSE
SUMMARY:Santa Breakfast - SOLD OUT
DESCRIPTION:Santa is coming!   \n\n\n\nThe morning brings visitors and residents for a signature holiday occasion.  A delicious breakfast awaits families that would like to meet with Santa Claus in a cozy setting\, letting them know their wish list desires. The draw is that the Santa Claus spends individual time with guests\, poses for multiple pictures and speaks to children individually. Tickets are sold online only and this event always sells out.\n\n\n\nThe Evergreen Chamber Elves want to create Christmas Magic for everyone but we do have limited space and availability for this event\, no day-of or unregistered attendees will be granted. All children over the age of 1 years old requires a ticket.\n\n\n\nWe thank you for your understanding & can't wait to share the Joy of Santa Breakfast!\n\n\n\n**Please note the remaining tables are high tops in the bar area. Please call the Chamber\, if you have any questions.
X-ALT-DESC;FMTTYPE=text/html:<span background-color:="" font-size:="" style="color: rgb(51\, 51\, 51)\; font-family: sans-serif\, Arial\, Verdana\, " trebuchet="">Santa is coming! &#127877\;&#127996\;</span><br font-size:="" style="color: rgb(51\, 51\, 51)\; font-family: sans-serif\, Arial\, Verdana\, " trebuchet="" />\n<br font-size:="" style="color: rgb(51\, 51\, 51)\; font-family: sans-serif\, Arial\, Verdana\, " trebuchet="" />\n<span background-color:="" font-size:="" style="color: rgb(51\, 51\, 51)\; font-family: sans-serif\, Arial\, Verdana\, " trebuchet="">The morning brings visitors and residents for a signature holiday occasion.&nbsp\; A delicious breakfast awaits families that would like to meet with Santa Claus in a cozy setting\, letting them know their wish list desires. The draw is that the Santa Claus spends individual time with guests\, poses for multiple pictures and speaks to children individually. Tickets are sold online only and this event always sells out.</span><br font-size:="" style="color: rgb(51\, 51\, 51)\; font-family: sans-serif\, Arial\, Verdana\, " trebuchet="" />\n<br font-size:="" style="color: rgb(51\, 51\, 51)\; font-family: sans-serif\, Arial\, Verdana\, " trebuchet="" />\n<span background-color:="" font-size:="" style="color: rgb(51\, 51\, 51)\; font-family: sans-serif\, Arial\, Verdana\, " trebuchet="">The Evergreen Chamber Elves want to create Christmas Magic for everyone but we do have limited space and availability for this event\, no day-of or unregistered attendees will be granted.&nbsp\;</span><span style="color: rgb(51\, 51\, 51)\; font-family: sans-serif\, Arial\, Verdana\, &quot\;Trebuchet MS&quot\;\; font-size: 13px\; background-color: rgb(255\, 255\, 255)\;">All children over the age of 1 years old requires a ticket.</span><br font-size:="" style="color: rgb(51\, 51\, 51)\; font-family: sans-serif\, Arial\, Verdana\, " trebuchet="" />\n<br font-size:="" style="color: rgb(51\, 51\, 51)\; font-family: sans-serif\, Arial\, Verdana\, " trebuchet="" />\n<span background-color:="" font-size:="" style="color: rgb(51\, 51\, 51)\; font-family: sans-serif\, Arial\, Verdana\, " trebuchet="">We thank you for your understanding &amp\; can&#39\;t wait to share the Joy of Santa Breakfast!<br />\n<br />\n<strong>**Please note the remaining tables are high tops in the bar area. Please call the Chamber\, if you have any questions.</strong></span>
LOCATION:Lariat Lodge 27618 Fireweed Dr Evergreen\, CO 80439
UID:e.298.97314
SEQUENCE:3
DTSTAMP:20260419T211014Z
URL:https://members.evergreenchamber.org/events/details/santa-breakfast-sold-out-12-06-2025-97314
END:VEVENT

END:VCALENDAR
