BEGIN:VCALENDAR
VERSION:2.0
PRODID:-//ChamberMaster//Event Calendar 2.0//EN
METHOD:PUBLISH
X-PUBLISHED-TTL:P3D
REFRESH-INTERVAL:P3D
CALSCALE:GREGORIAN
BEGIN:VEVENT
DTSTART:20231125T163000Z
DTEND:20231125T180000Z
X-MICROSOFT-CDO-ALLDAYEVENT:FALSE
SUMMARY:Santa Breakfast
DESCRIPTION:THIS REGISTRATION IS CLOSED ON-LINE.  PLEASE EMAIL Courtney@evergreenchamber.org for availability.\n\n\n\nSanta is coming!   \n\n\n\nThe morning brings visitors and residents for a signature holiday occasion.  A delicious breakfast awaits families that would like to meet with Santa Claus in a cozy setting\, letting them know their wish list desires. The draw is that the Santa Claus spends individual time with guests\, poses for multiple pictures and speaks to children individually. Tickets are sold online only and this event always sells out.\n\n\n\nThe Evergreen Chamber Elves want to create Christmas Magic for everyone but we do have limited space and availability for this event\, no day-of or unregistered attendees will be granted. Everyone who wishes to be in attendance is kindly requested to purchase a ticket.\n\n\n\nWe thank you for your understanding & can't wait to share the Joy of Santa Breakfast!
X-ALT-DESC;FMTTYPE=text/html:<span background-color:="" font-size:="" style="color: rgb(51\, 51\, 51)\; font-family: sans-serif\, Arial\, Verdana\, " trebuchet="">THIS REGISTRATION IS CLOSED ON-LINE.&nbsp\; PLEASE EMAIL Courtney@evergreenchamber.org for availability.<br />\n<br />\nSanta is coming! &#127877\;&#127996\;</span><br font-size:="" style="color: rgb(51\, 51\, 51)\; font-family: sans-serif\, Arial\, Verdana\, " trebuchet="" />\n<br font-size:="" style="color: rgb(51\, 51\, 51)\; font-family: sans-serif\, Arial\, Verdana\, " trebuchet="" />\n<span background-color:="" font-size:="" style="color: rgb(51\, 51\, 51)\; font-family: sans-serif\, Arial\, Verdana\, " trebuchet="">The morning brings visitors and residents for a signature holiday occasion.&nbsp\; A delicious breakfast awaits families that would like to meet with Santa Claus in a cozy setting\, letting them know their wish list desires. The draw is that the Santa Claus spends individual time with guests\, poses for multiple pictures and speaks to children individually. Tickets are sold online only and this event always sells out.</span><br font-size:="" style="color: rgb(51\, 51\, 51)\; font-family: sans-serif\, Arial\, Verdana\, " trebuchet="" />\n<br font-size:="" style="color: rgb(51\, 51\, 51)\; font-family: sans-serif\, Arial\, Verdana\, " trebuchet="" />\n<span background-color:="" font-size:="" style="color: rgb(51\, 51\, 51)\; font-family: sans-serif\, Arial\, Verdana\, " trebuchet="">The Evergreen Chamber Elves want to create Christmas Magic for everyone but we do have limited space and availability for this event\, no day-of or unregistered attendees will be granted. Everyone who wishes to be in attendance is kindly requested to purchase a ticket.</span><br font-size:="" style="color: rgb(51\, 51\, 51)\; font-family: sans-serif\, Arial\, Verdana\, " trebuchet="" />\n<br font-size:="" style="color: rgb(51\, 51\, 51)\; font-family: sans-serif\, Arial\, Verdana\, " trebuchet="" />\n<span background-color:="" font-size:="" style="color: rgb(51\, 51\, 51)\; font-family: sans-serif\, Arial\, Verdana\, " trebuchet="">We thank you for your understanding &amp\; can&#39\;t wait to share the Joy of Santa Breakfast!</span>
LOCATION:Hiwan Golf Club 30671 Clubhouse Lane Evergreen\, CO
UID:e.298.89222
SEQUENCE:3
DTSTAMP:20260423T092522Z
URL:https://members.evergreenchamber.org/events/details/santa-breakfast-89222
END:VEVENT

END:VCALENDAR
