BEGIN:VCALENDAR
VERSION:2.0
PRODID:-//ChamberMaster//Event Calendar 2.0//EN
METHOD:PUBLISH
X-PUBLISHED-TTL:P3D
REFRESH-INTERVAL:P3D
CALSCALE:GREGORIAN
BEGIN:VEVENT
DTSTART:20211127T163000Z
DTEND:20211127T180000Z
X-MICROSOFT-CDO-ALLDAYEVENT:FALSE
SUMMARY:Santa Breakfast
DESCRIPTION:The Evergreen Chamber will once again host the Breakfast with Santa event. The mornings bring visitors and residents to town for a signature holiday occasion and local holiday shopping for Small Business Saturday. A delicious breakfast awaits families that would like to meet with Santa Claus in an intimate setting\, letting them know their wish list desires. The draw is that the Santa Claus strolls among the guests\, posses for multiple pictures and speaks to children individually. Tickets are sold online only and this event always sells out. Tickets go on sale October 18.
X-ALT-DESC;FMTTYPE=text/html:The Evergreen Chamber will once again host the Breakfast with Santa event. The mornings bring visitors and residents to town for a signature holiday occasion and local holiday shopping for Small Business Saturday. A delicious breakfast awaits families that would like to meet with Santa Claus in an intimate setting\, letting them know their wish list desires. The draw is that the Santa Claus strolls among the guests\, posses for multiple pictures and speaks to children individually. Tickets are sold online only and this event always sells out. Tickets go on sale October 18.<br />\n&nbsp\;
LOCATION:El Rancho Brewing Company 29260 US Hwy 40 Evergreen\, CO 80439
UID:e.298.83707
SEQUENCE:3
DTSTAMP:20260424T210501Z
URL:https://members.evergreenchamber.org/events/details/santa-breakfast-83707
END:VEVENT

END:VCALENDAR
