BEGIN:VCALENDAR
VERSION:2.0
PRODID:-//ChamberMaster//Event Calendar 2.0//EN
METHOD:PUBLISH
X-PUBLISHED-TTL:P3D
REFRESH-INTERVAL:P3D
CALSCALE:GREGORIAN
BEGIN:VEVENT
DTSTART:20250920T150000Z
DTEND:20250920T180000Z
X-MICROSOFT-CDO-ALLDAYEVENT:FALSE
SUMMARY:Rotary Recycle Day
DESCRIPTION:Rotary is helping you keep Evergreen GREEN! The Rotary Club of Evergreen announces our annual Recycle Day will be September 20th in the Evergreen Country Day School parking lot\, 1036 El Rancho Road (near Home Depot). Hours are 9:00 am to noon. We continue our focus on hard to recycle items   including:   Appliances   Electronics   Tires\, mattresses\, scrap metal\,   Hazardous waste See the complete list and pricing at evergreenrotary.org
X-ALT-DESC;FMTTYPE=text/html:Rotary is helping you keep Evergreen GREEN! The Rotary Club of Evergreen announces our annual Recycle Day will be September 20th in the Evergreen Country Day School parking lot\, 1036 El Rancho Road (near Home Depot). Hours are 9:00 am to noon. We continue our focus on hard to recycle items &ndash\; including: &bull\; Appliances &bull\; Electronics &bull\; Tires\, mattresses\, scrap metal\, &bull\; Hazardous waste See the complete list and pricing at evergreenrotary.org
LOCATION:Evergreen Country Day School parking lot 1036 El Rancho Road (near Home Depot)
UID:e.298.100888
SEQUENCE:3
DTSTAMP:20260420T020124Z
URL:https://members.evergreenchamber.org/events/details/rotary-recycle-day-100888
END:VEVENT

END:VCALENDAR
