BEGIN:VCALENDAR
VERSION:2.0
PRODID:-//ChamberMaster//Event Calendar 2.0//EN
METHOD:PUBLISH
X-PUBLISHED-TTL:P3D
REFRESH-INTERVAL:P3D
CALSCALE:GREGORIAN
BEGIN:VEVENT
DTSTART:20210716T230000Z
DTEND:20210717T020000Z
X-MICROSOFT-CDO-ALLDAYEVENT:FALSE
SUMMARY:Robin Hackett Live at Wild Game Evergreen
DESCRIPTION:Hearing Robin Hackett with her soul-stirring vocals allows you to instantly transform your day into something special. Her sound has been compared to artists such as Sheryl Crow\, Joni Mitchell\, Norah Jones and Sarah Vaughn. https://www.robinhackettmusic.com/ No cover.
X-ALT-DESC;FMTTYPE=text/html:Hearing Robin Hackett with her soul-stirring vocals allows you to instantly transform your day into something special. Her sound has been compared to artists such as Sheryl Crow\, Joni Mitchell\, Norah Jones and Sarah Vaughn. https://www.robinhackettmusic.com/ No cover.
LOCATION:Wild Game Evergreen 1232 Bergen Pkwy\, Suite 201 Evergreen\, CO
UID:e.298.84357
SEQUENCE:3
DTSTAMP:20260425T025941Z
URL:https://members.evergreenchamber.org/events/details/robin-hackett-live-at-wild-game-evergreen-84357
END:VEVENT

END:VCALENDAR
